{"text_format":"1","workbook":"xlsx","n_sheets":2,"sheets":["応募申請書","集計用"],"not_rendered":{"charts":0,"images":0,"macros":1,"external_links":0,"defined_names":0,"comments":0,"pivot_tables":0},"unopened":[],"bounds":{"document_bytes":16777216,"sheet_cells":100000,"rows_first":2000,"rows_last":500,"rows_between":2000,"halvings":0,"cell_chars":16384,"cell_head_chars":4096},"cells_cut":0,"cells_raw":0,"read":"whole","date_system":"1900"}

{"sheet":"応募申請書","index":0,"n_rows":70,"n_cols":5,"rows_kept":70,"cut":false,"hidden":false,"merged":[[3,2,3,3],[4,2,4,3],[9,2,10,2],[25,2,26,2],[8,1,16,1],[17,1,21,1],[24,1,32,1],[57,2,58,2],[65,1,69,1],[33,1,37,1],[41,2,42,2],[49,1,53,1],[40,1,48,1],[56,1,64,1]]}
["（様式１）"]
[null,null,null,null,"受付番号"]
[]
[null,null,"令和５年度フェムテック等サポートサービス実証事業費補助金"]
[null,null,"補助事業者　応募申請書"]
[]
[null,"１.申請者の概要等"]
[null,"（１）申請者（代表団体）"]
[null,"団体概要","法人番号"]
[null,null,"代表者役職・\n氏名（ふりがな）","役職："]
[null,null,null,"氏名："]
[null,null,"組織・団体名"]
[null,null,"設立年月","和暦　　　　年　　　月　　　日"]
[null,null,"所在地"]
[null,null,"役員等"]
[null,null,"法人の主な活動"]
[null,null,"直近3年度分の\n財務諸表","※直近３年度分の財務諸表を別添にてご提出下さい"]
[null,"連絡担当窓口","氏名（ふりがな）"]
[null,null,"部署名"]
[null,null,"役職"]
[null,null,"電話番号（直通）"]
[null,null,"Ｅ－ｍａｉｌ"]
[]
[null,"（２）申請者（参加団体①）"]
[null,"団体概要","法人番号"]
[null,null,"代表者役職・\n氏名（ふりがな）","役職："]
[null,null,null,"氏名："]
[null,null,"組織・団体名"]
[null,null,"設立年月","和暦　　　　年　　　月　　　日"]
[null,null,"所在地"]
[null,null,"役員等"]
[null,null,"法人の主な活動"]
[null,null,"直近3年度分の\n財務諸表","※直近３年度分の財務諸表を別添にてご提出下さい"]
[null,"連絡担当窓口","氏名（ふりがな）"]
[null,null,"部署名"]
[null,null,"役職"]
[null,null,"電話番号（直通）"]
[null,null,"Ｅ－ｍａｉｌ"]
[]
[null,"（２）申請者（参加団体②）"]
[null,"団体概要","法人番号"]
[null,null,"代表者役職・\n氏名（ふりがな）","役職："]
[null,null,null,"氏名："]
[null,null,"組織・団体名"]
[null,null,"設立年月","和暦　　　　年　　　月　　　日"]
[null,null,"所在地"]
[null,null,"役員等"]
[null,null,"法人の主な活動"]
[null,null,"直近3年度分の\n財務諸表","※直近３年度分の財務諸表を別添にてご提出下さい"]
[null,"連絡担当窓口","氏名（ふりがな）"]
[null,null,"部署名"]
[null,null,"役職"]
[null,null,"電話番号（直通）"]
[null,null,"Ｅ－ｍａｉｌ"]
[]
[null,"（２）申請者（参加団体③）"]
[null,"団体概要","法人番号"]
[null,null,"代表者役職・\n氏名（ふりがな）","役職："]
[null,null,null,"氏名："]
[null,null,"組織・団体名"]
[null,null,"設立年月","和暦　　　　年　　　月　　　日"]
[null,null,"所在地"]
[null,null,"役員等"]
[null,null,"法人の主な活動"]
[null,null,"直近3年度分の\n財務諸表","※直近３年度分の財務諸表を別添にてご提出下さい"]
[null,"連絡担当窓口","氏名（ふりがな）"]
[null,null,"部署名"]
[null,null,"役職"]
[null,null,"電話番号（直通）"]
[null,null,"Ｅ－ｍａｉｌ"]

{"sheet":"集計用","index":1,"n_rows":2,"n_cols":57,"rows_kept":2,"cut":false,"hidden":true,"merged":[]}
["受付番号","法人番号","代表者役職","代表者氏名","組織・団体名","設立年月","所在地","役員等","法人の主な活動","直近3年度分の財務諸表","氏名（ふりがな）","部署名","役職","電話番号（直通）","Ｅ－ｍａｉｌ","法人番号","代表者役職","代表者氏名","組織・団体名","設立年月","所在地","役員等","法人の主な活動","直近3年度分の財務諸表","氏名（ふりがな）","部署名","役職","電話番号（直通）","Ｅ－ｍａｉｌ","法人番号","代表者役職","代表者氏名","組織・団体名","設立年月","所在地","役員等","法人の主な活動","直近3年度分の財務諸表","氏名（ふりがな）","部署名","役職","電話番号（直通）","Ｅ－ｍａｉｌ","法人番号","代表者役職","代表者氏名","組織・団体名","設立年月","所在地","役員等","法人の主な活動","直近3年度分の財務諸表","氏名（ふりがな）","部署名","役職","電話番号（直通）","Ｅ－ｍａｉｌ"]
[{"$f":"応募申請書!F2","v":0},{"$f":"応募申請書!D9","v":0},{"$f":"応募申請書!D10","v":"役職："},{"$f":"応募申請書!D11","v":"氏名："},{"$f":"応募申請書!D12","v":0},{"$f":"応募申請書!D13","v":"和暦　　　　年　　　月　　　日"},{"$f":"応募申請書!D14","v":0},{"$f":"応募申請書!D15","v":0},{"$f":"応募申請書!D16","v":0},"N/A",{"$f":"応募申請書!D18","v":0},{"$f":"応募申請書!D19","v":0},{"$f":"応募申請書!D20","v":0},{"$f":"応募申請書!D21","v":0},{"$f":"応募申請書!D22","v":0},{"$f":"応募申請書!D25","v":0},{"$f":"応募申請書!D26","v":"役職："},{"$f":"応募申請書!D27","v":"氏名："},{"$f":"応募申請書!D28","v":0},{"$f":"応募申請書!D29","v":"和暦　　　　年　　　月　　　日"},{"$f":"応募申請書!D30","v":0},{"$f":"応募申請書!D31","v":0},{"$f":"応募申請書!D32","v":0},"N/A",{"$f":"応募申請書!D34","v":0},{"$f":"応募申請書!D35","v":0},{"$f":"応募申請書!D36","v":0},{"$f":"応募申請書!D37","v":0},{"$f":"応募申請書!D38","v":0},{"$f":"応募申請書!D41","v":0},{"$f":"応募申請書!D42","v":"役職："},{"$f":"応募申請書!D43","v":"氏名："},{"$f":"応募申請書!D44","v":0},{"$f":"応募申請書!D45","v":"和暦　　　　年　　　月　　　日"},{"$f":"応募申請書!D46","v":0},{"$f":"応募申請書!D47","v":0},{"$f":"応募申請書!D48","v":0},"N/A",{"$f":"応募申請書!D50","v":0},{"$f":"応募申請書!D51","v":0},{"$f":"応募申請書!D52","v":0},{"$f":"応募申請書!D53","v":0},{"$f":"応募申請書!D54","v":0},{"$f":"応募申請書!D57","v":0},{"$f":"応募申請書!D58","v":"役職："},{"$f":"応募申請書!D59","v":"氏名："},{"$f":"応募申請書!D60","v":0},{"$f":"応募申請書!D61","v":"和暦　　　　年　　　月　　　日"},{"$f":"応募申請書!D62","v":0},{"$f":"応募申請書!D63","v":0},{"$f":"応募申請書!D64","v":0},"N/A",{"$f":"応募申請書!D66","v":0},{"$f":"応募申請書!D67","v":0},{"$f":"応募申請書!D68","v":0},{"$f":"応募申請書!D69","v":0},{"$f":"応募申請書!D70","v":0}]